View In:
ArcMap
ArcGIS Explorer
ArcGIS JavaScript
Google Earth
View Footprint In:
Google Earth
Service Description:
Map Name: Skåne
Layers:
Description:
Copyright Text:
Spatial Reference: 3008
Single Fused Map Cache: true
Tile Info:
- Height: 512
- Width: 512
- DPI: 96
- Levels of Detail: (# Levels: 14)
-
Level ID: 0
[Start Tile,
End Tile]
Resolution: 270,933875201084
Scale: 1024000
-
Level ID: 1
[Start Tile,
End Tile]
Resolution: 135,466937600542
Scale: 512000
-
Level ID: 2
[Start Tile,
End Tile]
Resolution: 67,7334688002709
Scale: 256000
-
Level ID: 3
[Start Tile,
End Tile]
Resolution: 33,8667344001355
Scale: 128000
-
Level ID: 4
[Start Tile,
End Tile]
Resolution: 16,9333672000677
Scale: 64000
-
Level ID: 5
[Start Tile,
End Tile]
Resolution: 8,46668360003387
Scale: 32000
-
Level ID: 6
[Start Tile,
End Tile]
Resolution: 4,23334180001693
Scale: 16000
-
Level ID: 7
[Start Tile,
End Tile]
Resolution: 2,11667090000847
Scale: 8000
-
Level ID: 8
[Start Tile,
End Tile]
Resolution: 1,05833545000423
Scale: 4000
-
Level ID: 9
[Start Tile,
End Tile]
Resolution: 0,529167725002117
Scale: 2000
-
Level ID: 10
[Start Tile,
End Tile]
Resolution: 0,264583862501058
Scale: 1000
-
Level ID: 11
[Start Tile,
End Tile]
Resolution: 0,132291931250529
Scale: 500
-
Level ID: 12
[Start Tile,
End Tile]
Resolution: 0,0661459656252646
Scale: 250
-
Level ID: 13
[Start Tile,
End Tile]
Resolution: 0,0264583862501058
Scale: 100
- Format: PNG32
- Compression Quality: 0
-
Origin:
- Spatial Reference: 3008
Intial Extent:
XMin: 102921.342095864
YMin: 6154827.52493651
XMax: 172619.081491343
YMax: 6203527.8890039
Spatial Reference: 3008
Full Extent:
XMin: -235122.672555
YMin: 5955138.17413
XMax: 679346.352255
YMax: 7762751.97267
Spatial Reference: 3008
Units: esriMeters
Supported Image Format Types: PNG24,PNG,JPG,DIB,TIFF,EMF,PS,PDF,GIF,SVG,SVGZ,AI
Document Info:
- Title: Markytor
- Author: BNOM
- Comments:
- Subject:
- Category:
- Keywords:
Supported Interfaces:
REST
SOAP
WMS
Supported Operations:
Export Map